BEGIN:VCALENDAR
VERSION:2.0
PRODID:LFV Website-Kit
METHOD:PUBLISH
BEGIN:VEVENT
UID:lfv-dd100236-afa3-4b58-a424-f44a15a292b2
LOCATION:
SUMMARY:Übung - Jugend
DESCRIPTION:Termin Link: http://ff-eschenried.feuerwehren.bayern/termine/ubung-jugend-6/
URL:http://ff-eschenried.feuerwehren.bayern/termine/ubung-jugend-6/
CLASS:PRIVATE
DTSTART;TZID=Europe/Berlin:20260706T173000
DTEND;TZID=Europe/Berlin:20260706T190000
DTSTAMP:20260419T132414Z
END:VEVENT
END:VCALENDAR